BEGIN:VCALENDAR
VERSION:2.0
PRODID:-// - ECPv6.15.20//NONSGML v1.0//EN
CALSCALE:GREGORIAN
METHOD:PUBLISH
X-ORIGINAL-URL:https://gsstjohannis.de
X-WR-CALDESC:Veranstaltungen für 
REFRESH-INTERVAL;VALUE=DURATION:PT1H
X-Robots-Tag:noindex
X-PUBLISHED-TTL:PT1H
BEGIN:VTIMEZONE
TZID:Europe/Berlin
BEGIN:DAYLIGHT
TZOFFSETFROM:+0100
TZOFFSETTO:+0200
TZNAME:CEST
DTSTART:20230326T010000
END:DAYLIGHT
BEGIN:STANDARD
TZOFFSETFROM:+0200
TZOFFSETTO:+0100
TZNAME:CET
DTSTART:20231029T010000
END:STANDARD
BEGIN:DAYLIGHT
TZOFFSETFROM:+0100
TZOFFSETTO:+0200
TZNAME:CEST
DTSTART:20240331T010000
END:DAYLIGHT
BEGIN:STANDARD
TZOFFSETFROM:+0200
TZOFFSETTO:+0100
TZNAME:CET
DTSTART:20241027T010000
END:STANDARD
BEGIN:DAYLIGHT
TZOFFSETFROM:+0100
TZOFFSETTO:+0200
TZNAME:CEST
DTSTART:20250330T010000
END:DAYLIGHT
BEGIN:STANDARD
TZOFFSETFROM:+0200
TZOFFSETTO:+0100
TZNAME:CET
DTSTART:20251026T010000
END:STANDARD
END:VTIMEZONE
BEGIN:VEVENT
DTSTART;VALUE=DATE:20240501
DTEND;VALUE=DATE:20240502
DTSTAMP:20260420T083514
CREATED:20231025T061956Z
LAST-MODIFIED:20231025T061956Z
UID:4593-1714521600-1714607999@gsstjohannis.de
SUMMARY:Tag der Arbeit
DESCRIPTION:keine Schule
URL:https://gsstjohannis.de/event/tag-der-arbeit/
END:VEVENT
BEGIN:VEVENT
DTSTART;TZID=Europe/Berlin:20240502T000000
DTEND;TZID=Europe/Berlin:20240502T000000
DTSTAMP:20260420T083515
CREATED:20231025T062048Z
LAST-MODIFIED:20231025T062048Z
UID:4595-1714608000-1714608000@gsstjohannis.de
SUMMARY:Ausgabe der Übertrittszeugnisse (4. Jahrgangsstufen)
DESCRIPTION:
URL:https://gsstjohannis.de/event/ausgabe-der-uebertrittszeugnisse-4-jahrgangsstufen/
END:VEVENT
BEGIN:VEVENT
DTSTART;VALUE=DATE:20240509
DTEND;VALUE=DATE:20240510
DTSTAMP:20260420T083515
CREATED:20231025T062126Z
LAST-MODIFIED:20231025T062126Z
UID:4597-1715212800-1715299199@gsstjohannis.de
SUMMARY:Christi Himmelfahrt
DESCRIPTION:keine Schule
URL:https://gsstjohannis.de/event/christi-himmelfahrt/
END:VEVENT
BEGIN:VEVENT
DTSTART;TZID=Europe/Berlin:20240510T000000
DTEND;TZID=Europe/Berlin:20240510T000000
DTSTAMP:20260420T083515
CREATED:20231025T062620Z
LAST-MODIFIED:20231025T064752Z
UID:4610-1715299200-1715299200@gsstjohannis.de
SUMMARY:Sportfest
DESCRIPTION:
URL:https://gsstjohannis.de/event/fussballturnier-der-3-klassen/
END:VEVENT
BEGIN:VEVENT
DTSTART;TZID=Europe/Berlin:20240521T000000
DTEND;TZID=Europe/Berlin:20240601T000000
DTSTAMP:20260420T083515
CREATED:20231025T062311Z
LAST-MODIFIED:20231025T062311Z
UID:4602-1716249600-1717200000@gsstjohannis.de
SUMMARY:Pfingstferien
DESCRIPTION:
URL:https://gsstjohannis.de/event/pfingstferien-3/
END:VEVENT
END:VCALENDAR