BEGIN:VCALENDAR
VERSION:2.0
PRODID:-// - ECPv6.15.20//NONSGML v1.0//EN
CALSCALE:GREGORIAN
METHOD:PUBLISH
X-ORIGINAL-URL:https://gsstjohannis.de
X-WR-CALDESC:Veranstaltungen für 
REFRESH-INTERVAL;VALUE=DURATION:PT1H
X-Robots-Tag:noindex
X-PUBLISHED-TTL:PT1H
BEGIN:VTIMEZONE
TZID:Europe/Berlin
BEGIN:DAYLIGHT
TZOFFSETFROM:+0100
TZOFFSETTO:+0200
TZNAME:CEST
DTSTART:20220327T010000
END:DAYLIGHT
BEGIN:STANDARD
TZOFFSETFROM:+0200
TZOFFSETTO:+0100
TZNAME:CET
DTSTART:20221030T010000
END:STANDARD
BEGIN:DAYLIGHT
TZOFFSETFROM:+0100
TZOFFSETTO:+0200
TZNAME:CEST
DTSTART:20230326T010000
END:DAYLIGHT
BEGIN:STANDARD
TZOFFSETFROM:+0200
TZOFFSETTO:+0100
TZNAME:CET
DTSTART:20231029T010000
END:STANDARD
BEGIN:DAYLIGHT
TZOFFSETFROM:+0100
TZOFFSETTO:+0200
TZNAME:CEST
DTSTART:20240331T010000
END:DAYLIGHT
BEGIN:STANDARD
TZOFFSETFROM:+0200
TZOFFSETTO:+0100
TZNAME:CET
DTSTART:20241027T010000
END:STANDARD
BEGIN:DAYLIGHT
TZOFFSETFROM:+0100
TZOFFSETTO:+0200
TZNAME:CEST
DTSTART:20250330T010000
END:DAYLIGHT
BEGIN:STANDARD
TZOFFSETFROM:+0200
TZOFFSETTO:+0100
TZNAME:CET
DTSTART:20251026T010000
END:STANDARD
END:VTIMEZONE
BEGIN:VEVENT
DTSTART;TZID=Europe/Berlin:20231204T000000
DTEND;TZID=Europe/Berlin:20231204T000000
DTSTAMP:20260420T171205
CREATED:20231025T063521Z
LAST-MODIFIED:20231025T063521Z
UID:4625-1701648000-1701648000@gsstjohannis.de
SUMMARY:Adventssingen
DESCRIPTION:
URL:https://gsstjohannis.de/event/adventssingen-4/
END:VEVENT
BEGIN:VEVENT
DTSTART;TZID=Europe/Berlin:20231206T000000
DTEND;TZID=Europe/Berlin:20231206T000000
DTSTAMP:20260420T171205
CREATED:20231025T063544Z
LAST-MODIFIED:20231025T063544Z
UID:4627-1701820800-1701820800@gsstjohannis.de
SUMMARY:Nikolausaktion
DESCRIPTION:
URL:https://gsstjohannis.de/event/nikolausaktion-2/
END:VEVENT
BEGIN:VEVENT
DTSTART;TZID=Europe/Berlin:20231211T000000
DTEND;TZID=Europe/Berlin:20231211T000000
DTSTAMP:20260420T171205
CREATED:20231025T063741Z
LAST-MODIFIED:20231025T063741Z
UID:4631-1702252800-1702252800@gsstjohannis.de
SUMMARY:Adventssingen
DESCRIPTION:
URL:https://gsstjohannis.de/event/adventssingen-5/
END:VEVENT
BEGIN:VEVENT
DTSTART;TZID=Europe/Berlin:20231222T000000
DTEND;TZID=Europe/Berlin:20231222T000000
DTSTAMP:20260420T171205
CREATED:20231025T064127Z
LAST-MODIFIED:20231025T064127Z
UID:4640-1703203200-1703203200@gsstjohannis.de
SUMMARY:Weihnachtsgottesdienst
DESCRIPTION:
URL:https://gsstjohannis.de/event/weihnachtsgottesdienst-4/
END:VEVENT
BEGIN:VEVENT
DTSTART;TZID=Europe/Berlin:20231223T000000
DTEND;TZID=Europe/Berlin:20240105T000000
DTSTAMP:20260420T171205
CREATED:20231025T063844Z
LAST-MODIFIED:20231025T063844Z
UID:4635-1703289600-1704412800@gsstjohannis.de
SUMMARY:Weihnachtsferien
DESCRIPTION:
URL:https://gsstjohannis.de/event/weihnachtsferien-3/
END:VEVENT
END:VCALENDAR