BEGIN:VCALENDAR
VERSION:2.0
PRODID:-// - ECPv6.15.20//NONSGML v1.0//EN
CALSCALE:GREGORIAN
METHOD:PUBLISH
X-ORIGINAL-URL:https://gsstjohannis.de
X-WR-CALDESC:Veranstaltungen für 
REFRESH-INTERVAL;VALUE=DURATION:PT1H
X-Robots-Tag:noindex
X-PUBLISHED-TTL:PT1H
BEGIN:VTIMEZONE
TZID:Europe/Berlin
BEGIN:DAYLIGHT
TZOFFSETFROM:+0100
TZOFFSETTO:+0200
TZNAME:CEST
DTSTART:20210328T010000
END:DAYLIGHT
BEGIN:STANDARD
TZOFFSETFROM:+0200
TZOFFSETTO:+0100
TZNAME:CET
DTSTART:20211031T010000
END:STANDARD
BEGIN:DAYLIGHT
TZOFFSETFROM:+0100
TZOFFSETTO:+0200
TZNAME:CEST
DTSTART:20220327T010000
END:DAYLIGHT
BEGIN:STANDARD
TZOFFSETFROM:+0200
TZOFFSETTO:+0100
TZNAME:CET
DTSTART:20221030T010000
END:STANDARD
BEGIN:DAYLIGHT
TZOFFSETFROM:+0100
TZOFFSETTO:+0200
TZNAME:CEST
DTSTART:20230326T010000
END:DAYLIGHT
BEGIN:STANDARD
TZOFFSETFROM:+0200
TZOFFSETTO:+0100
TZNAME:CET
DTSTART:20231029T010000
END:STANDARD
END:VTIMEZONE
BEGIN:VEVENT
DTSTART;VALUE=DATE:20221205
DTEND;VALUE=DATE:20221206
DTSTAMP:20260421T122526
CREATED:20221005T083211Z
LAST-MODIFIED:20221005T084030Z
UID:3999-1670198400-1670284799@gsstjohannis.de
SUMMARY:Adventssingen
DESCRIPTION:
URL:https://gsstjohannis.de/event/adventssingen-2/
LOCATION:Turnhalle GS St. Johannis
END:VEVENT
BEGIN:VEVENT
DTSTART;VALUE=DATE:20221206
DTEND;VALUE=DATE:20221207
DTSTAMP:20260421T122526
CREATED:20221005T083313Z
LAST-MODIFIED:20221005T083313Z
UID:4001-1670284800-1670371199@gsstjohannis.de
SUMMARY:Nikolausaktion
DESCRIPTION:
URL:https://gsstjohannis.de/event/nikolausaktion/
END:VEVENT
BEGIN:VEVENT
DTSTART;VALUE=DATE:20221212
DTEND;VALUE=DATE:20221213
DTSTAMP:20260421T122526
CREATED:20221005T083537Z
LAST-MODIFIED:20221005T085643Z
UID:4003-1670803200-1670889599@gsstjohannis.de
SUMMARY:Adventssingen
DESCRIPTION:
URL:https://gsstjohannis.de/event/adventssingen-3/
LOCATION:Turnhalle GS St. Johannis
END:VEVENT
BEGIN:VEVENT
DTSTART;VALUE=DATE:20221223
DTEND;VALUE=DATE:20221224
DTSTAMP:20260421T122526
CREATED:20221005T083706Z
LAST-MODIFIED:20221005T083706Z
UID:4005-1671753600-1671839999@gsstjohannis.de
SUMMARY:Weihnachtsgottesdienst
DESCRIPTION:
URL:https://gsstjohannis.de/event/weihnachtsgottesdienst-2/
END:VEVENT
END:VCALENDAR