BEGIN:VCALENDAR
VERSION:2.0
PRODID:-// - ECPv6.15.20//NONSGML v1.0//EN
CALSCALE:GREGORIAN
METHOD:PUBLISH
X-ORIGINAL-URL:https://gsstjohannis.de
X-WR-CALDESC:Veranstaltungen für 
REFRESH-INTERVAL;VALUE=DURATION:PT1H
X-Robots-Tag:noindex
X-PUBLISHED-TTL:PT1H
BEGIN:VTIMEZONE
TZID:Europe/Berlin
BEGIN:DAYLIGHT
TZOFFSETFROM:+0100
TZOFFSETTO:+0200
TZNAME:CEST
DTSTART:20210328T010000
END:DAYLIGHT
BEGIN:STANDARD
TZOFFSETFROM:+0200
TZOFFSETTO:+0100
TZNAME:CET
DTSTART:20211031T010000
END:STANDARD
BEGIN:DAYLIGHT
TZOFFSETFROM:+0100
TZOFFSETTO:+0200
TZNAME:CEST
DTSTART:20220327T010000
END:DAYLIGHT
BEGIN:STANDARD
TZOFFSETFROM:+0200
TZOFFSETTO:+0100
TZNAME:CET
DTSTART:20221030T010000
END:STANDARD
BEGIN:DAYLIGHT
TZOFFSETFROM:+0100
TZOFFSETTO:+0200
TZNAME:CEST
DTSTART:20230326T010000
END:DAYLIGHT
BEGIN:STANDARD
TZOFFSETFROM:+0200
TZOFFSETTO:+0100
TZNAME:CET
DTSTART:20231029T010000
END:STANDARD
END:VTIMEZONE
BEGIN:VEVENT
DTSTART;VALUE=DATE:20220702
DTEND;VALUE=DATE:20220703
DTSTAMP:20260421T210717
CREATED:20220624T144309Z
LAST-MODIFIED:20220624T144309Z
UID:3901-1656720000-1656806399@gsstjohannis.de
SUMMARY:Basketball-Turnier
DESCRIPTION:Die kleinen Johannis Jaguars (2. Klassen) spielen am Samstag\, 2.7. von 9:30 bis ca. 13:00 Uhr. \nDie großen Johannis Jaguars (3./4.Klassen) haben sich für das Grundschulliga Finale nicht qualifiziert und sind daher am Sonntag nicht dabei.
URL:https://gsstjohannis.de/event/basketball-turnier/
END:VEVENT
BEGIN:VEVENT
DTSTART;VALUE=DATE:20220705
DTEND;VALUE=DATE:20220706
DTSTAMP:20260421T210717
CREATED:20220629T103440Z
LAST-MODIFIED:20220629T103440Z
UID:3924-1656979200-1657065599@gsstjohannis.de
SUMMARY:Klassenfotos
DESCRIPTION:
URL:https://gsstjohannis.de/event/klassenfotos/
END:VEVENT
BEGIN:VEVENT
DTSTART;VALUE=DATE:20220710
DTEND;VALUE=DATE:20220713
DTSTAMP:20260421T210717
CREATED:20211014T112617Z
LAST-MODIFIED:20211014T112617Z
UID:3739-1657411200-1657670399@gsstjohannis.de
SUMMARY:Opferfest
DESCRIPTION:
URL:https://gsstjohannis.de/event/opferfest/
END:VEVENT
BEGIN:VEVENT
DTSTART;VALUE=DATE:20220720
DTEND;VALUE=DATE:20220721
DTSTAMP:20260421T210717
CREATED:20220629T103640Z
LAST-MODIFIED:20220629T103640Z
UID:3927-1658275200-1658361599@gsstjohannis.de
SUMMARY:Vorlesewettbewerb
DESCRIPTION:
URL:https://gsstjohannis.de/event/vorlesewettbewerb/
END:VEVENT
BEGIN:VEVENT
DTSTART;VALUE=DATE:20220721
DTEND;VALUE=DATE:20220722
DTSTAMP:20260421T210717
CREATED:20220707T111612Z
LAST-MODIFIED:20220707T111612Z
UID:3937-1658361600-1658447999@gsstjohannis.de
SUMMARY:Schülerversammlung
DESCRIPTION:3./4. Stunde  - 1. und 2. Klassen \n5./6. Stunde - 3. und 4. Klassen
URL:https://gsstjohannis.de/event/schuelerversammlung/
END:VEVENT
BEGIN:VEVENT
DTSTART;VALUE=DATE:20220727
DTEND;VALUE=DATE:20220728
DTSTAMP:20260421T210717
CREATED:20211014T112619Z
LAST-MODIFIED:20211014T112619Z
UID:3741-1658880000-1658966399@gsstjohannis.de
SUMMARY:Schuljahresabschlussgottesdienst (während Unterrichtszeit)
DESCRIPTION:
URL:https://gsstjohannis.de/event/schuljahresabschlussgottesdienst-waehrend-unterrichtszeit/
END:VEVENT
BEGIN:VEVENT
DTSTART;VALUE=DATE:20220728
DTEND;VALUE=DATE:20220729
DTSTAMP:20260421T210717
CREATED:20211014T112621Z
LAST-MODIFIED:20211014T112621Z
UID:3743-1658966400-1659052799@gsstjohannis.de
SUMMARY:Flohmarkt (während Unterrichtszeit)
DESCRIPTION:
URL:https://gsstjohannis.de/event/flohmarkt-waehrend-unterrichtszeit/
END:VEVENT
BEGIN:VEVENT
DTSTART;VALUE=DATE:20220729
DTEND;VALUE=DATE:20220730
DTSTAMP:20260421T210717
CREATED:20211014T112623Z
LAST-MODIFIED:20211014T112623Z
UID:3745-1659052800-1659139199@gsstjohannis.de
SUMMARY:Zeugnisausgabe
DESCRIPTION:
URL:https://gsstjohannis.de/event/zeugnisausgabe/
END:VEVENT
END:VCALENDAR