BEGIN:VCALENDAR
VERSION:2.0
PRODID:-// - ECPv6.15.20//NONSGML v1.0//EN
CALSCALE:GREGORIAN
METHOD:PUBLISH
X-ORIGINAL-URL:https://gsstjohannis.de
X-WR-CALDESC:Veranstaltungen für 
REFRESH-INTERVAL;VALUE=DURATION:PT1H
X-Robots-Tag:noindex
X-PUBLISHED-TTL:PT1H
BEGIN:VTIMEZONE
TZID:Europe/Berlin
BEGIN:DAYLIGHT
TZOFFSETFROM:+0100
TZOFFSETTO:+0200
TZNAME:CEST
DTSTART:20200329T010000
END:DAYLIGHT
BEGIN:STANDARD
TZOFFSETFROM:+0200
TZOFFSETTO:+0100
TZNAME:CET
DTSTART:20201025T010000
END:STANDARD
BEGIN:DAYLIGHT
TZOFFSETFROM:+0100
TZOFFSETTO:+0200
TZNAME:CEST
DTSTART:20210328T010000
END:DAYLIGHT
BEGIN:STANDARD
TZOFFSETFROM:+0200
TZOFFSETTO:+0100
TZNAME:CET
DTSTART:20211031T010000
END:STANDARD
BEGIN:DAYLIGHT
TZOFFSETFROM:+0100
TZOFFSETTO:+0200
TZNAME:CEST
DTSTART:20220327T010000
END:DAYLIGHT
BEGIN:STANDARD
TZOFFSETFROM:+0200
TZOFFSETTO:+0100
TZNAME:CET
DTSTART:20221030T010000
END:STANDARD
END:VTIMEZONE
BEGIN:VEVENT
DTSTART;VALUE=DATE:20210720
DTEND;VALUE=DATE:20210722
DTSTAMP:20260422T191825
CREATED:20201011T063502Z
LAST-MODIFIED:20201011T063502Z
UID:3243-1626739200-1626911999@gsstjohannis.de
SUMMARY:Muslimisches Opferfest
DESCRIPTION:
URL:https://gsstjohannis.de/event/muslimisches-opferfest/
END:VEVENT
BEGIN:VEVENT
DTSTART;VALUE=DATE:20210728
DTEND;VALUE=DATE:20210729
DTSTAMP:20260422T191825
CREATED:20201011T063529Z
LAST-MODIFIED:20201011T063529Z
UID:3245-1627430400-1627516799@gsstjohannis.de
SUMMARY:Schulabschlussgottesdienst
DESCRIPTION:
URL:https://gsstjohannis.de/event/schulabschlussgottesdienst/
END:VEVENT
BEGIN:VEVENT
DTSTART;VALUE=DATE:20210729
DTEND;VALUE=DATE:20210730
DTSTAMP:20260422T191825
CREATED:20201011T063556Z
LAST-MODIFIED:20220630T075407Z
UID:3247-1627516800-1627603199@gsstjohannis.de
SUMMARY:Jahreszeugnis und Verabschiedung 4. Klässler (Unterrichtsschluss 11:15 Uhr!)
DESCRIPTION:
URL:https://gsstjohannis.de/event/jahreszeugnis-2/
END:VEVENT
BEGIN:VEVENT
DTSTART;VALUE=DATE:20210730
DTEND;VALUE=DATE:20210914
DTSTAMP:20260422T191825
CREATED:20201011T063628Z
LAST-MODIFIED:20201011T063628Z
UID:3249-1627603200-1631577599@gsstjohannis.de
SUMMARY:Sommerferien
DESCRIPTION:
URL:https://gsstjohannis.de/event/sommerferien-2/
END:VEVENT
END:VCALENDAR