BEGIN:VCALENDAR
VERSION:2.0
PRODID:-// - ECPv6.15.20//NONSGML v1.0//EN
CALSCALE:GREGORIAN
METHOD:PUBLISH
X-ORIGINAL-URL:https://gsstjohannis.de
X-WR-CALDESC:Veranstaltungen für 
REFRESH-INTERVAL;VALUE=DURATION:PT1H
X-Robots-Tag:noindex
X-PUBLISHED-TTL:PT1H
BEGIN:VTIMEZONE
TZID:Europe/Berlin
BEGIN:DAYLIGHT
TZOFFSETFROM:+0100
TZOFFSETTO:+0200
TZNAME:CEST
DTSTART:20180325T010000
END:DAYLIGHT
BEGIN:STANDARD
TZOFFSETFROM:+0200
TZOFFSETTO:+0100
TZNAME:CET
DTSTART:20181028T010000
END:STANDARD
BEGIN:DAYLIGHT
TZOFFSETFROM:+0100
TZOFFSETTO:+0200
TZNAME:CEST
DTSTART:20190331T010000
END:DAYLIGHT
BEGIN:STANDARD
TZOFFSETFROM:+0200
TZOFFSETTO:+0100
TZNAME:CET
DTSTART:20191027T010000
END:STANDARD
BEGIN:DAYLIGHT
TZOFFSETFROM:+0100
TZOFFSETTO:+0200
TZNAME:CEST
DTSTART:20200329T010000
END:DAYLIGHT
BEGIN:STANDARD
TZOFFSETFROM:+0200
TZOFFSETTO:+0100
TZNAME:CET
DTSTART:20201025T010000
END:STANDARD
BEGIN:DAYLIGHT
TZOFFSETFROM:+0100
TZOFFSETTO:+0200
TZNAME:CEST
DTSTART:20210328T010000
END:DAYLIGHT
BEGIN:STANDARD
TZOFFSETFROM:+0200
TZOFFSETTO:+0100
TZNAME:CET
DTSTART:20211031T010000
END:STANDARD
END:VTIMEZONE
BEGIN:VEVENT
DTSTART;VALUE=DATE:20191202
DTEND;VALUE=DATE:20191203
DTSTAMP:20260425T140843
CREATED:20190918T161340Z
LAST-MODIFIED:20201201T074758Z
UID:1387-1575244800-1575331199@gsstjohannis.de
SUMMARY:1. Adventsfeier in der Turnhalle 8:00 Uhr
DESCRIPTION:
URL:https://gsstjohannis.de/event/1-adventsfeier-in-der-turnhalle-800-uhr/
END:VEVENT
BEGIN:VEVENT
DTSTART;VALUE=DATE:20191209
DTEND;VALUE=DATE:20191210
DTSTAMP:20260425T140843
CREATED:20190918T161404Z
LAST-MODIFIED:20190918T161404Z
UID:1389-1575849600-1575935999@gsstjohannis.de
SUMMARY:2. Adventsfeier in der Turnhalle 8:00 Uhr
DESCRIPTION:
URL:https://gsstjohannis.de/event/2-adventsfeier-in-der-turnhalle-800-uhr/
END:VEVENT
BEGIN:VEVENT
DTSTART;VALUE=DATE:20191210
DTEND;VALUE=DATE:20191211
DTSTAMP:20260425T140843
CREATED:20191020T082946Z
LAST-MODIFIED:20191020T082946Z
UID:1513-1575936000-1576022399@gsstjohannis.de
SUMMARY:Bücherbus
DESCRIPTION:
URL:https://gsstjohannis.de/event/buecherbus-3/
END:VEVENT
BEGIN:VEVENT
DTSTART;VALUE=DATE:20191216
DTEND;VALUE=DATE:20191217
DTSTAMP:20260425T140843
CREATED:20190918T161438Z
LAST-MODIFIED:20190918T161438Z
UID:1391-1576454400-1576540799@gsstjohannis.de
SUMMARY:3. Adventsfeier in der Turnhalle 8:00 Uhr
DESCRIPTION:
URL:https://gsstjohannis.de/event/3-adventsfeier-in-der-turnhalle-800-uhr/
END:VEVENT
BEGIN:VEVENT
DTSTART;VALUE=DATE:20191218
DTEND;VALUE=DATE:20191219
DTSTAMP:20260425T140843
CREATED:20190918T161605Z
LAST-MODIFIED:20191127T185033Z
UID:1393-1576627200-1576713599@gsstjohannis.de
SUMMARY:Weihnachtsgottesdienst in der Friedenskirche
DESCRIPTION:10:00 Uhr - 1./2. Klasse \n10:30 Uhr - 3./4. Klasse
URL:https://gsstjohannis.de/event/weihnachtsgottesdienst/
END:VEVENT
BEGIN:VEVENT
DTSTART;VALUE=DATE:20191223
DTEND;VALUE=DATE:20200107
DTSTAMP:20260425T140843
CREATED:20190918T161700Z
LAST-MODIFIED:20200104T153924Z
UID:1395-1577059200-1578355199@gsstjohannis.de
SUMMARY:Weihnachtsferien
DESCRIPTION:
URL:https://gsstjohannis.de/event/weihnachtsferien/
END:VEVENT
END:VCALENDAR