BEGIN:VCALENDAR
VERSION:2.0
PRODID:-// - ECPv6.15.20//NONSGML v1.0//EN
CALSCALE:GREGORIAN
METHOD:PUBLISH
X-ORIGINAL-URL:https://gsstjohannis.de
X-WR-CALDESC:Veranstaltungen für 
REFRESH-INTERVAL;VALUE=DURATION:PT1H
X-Robots-Tag:noindex
X-PUBLISHED-TTL:PT1H
BEGIN:VTIMEZONE
TZID:Europe/Berlin
BEGIN:DAYLIGHT
TZOFFSETFROM:+0100
TZOFFSETTO:+0200
TZNAME:CEST
DTSTART:20180325T010000
END:DAYLIGHT
BEGIN:STANDARD
TZOFFSETFROM:+0200
TZOFFSETTO:+0100
TZNAME:CET
DTSTART:20181028T010000
END:STANDARD
BEGIN:DAYLIGHT
TZOFFSETFROM:+0100
TZOFFSETTO:+0200
TZNAME:CEST
DTSTART:20190331T010000
END:DAYLIGHT
BEGIN:STANDARD
TZOFFSETFROM:+0200
TZOFFSETTO:+0100
TZNAME:CET
DTSTART:20191027T010000
END:STANDARD
BEGIN:DAYLIGHT
TZOFFSETFROM:+0100
TZOFFSETTO:+0200
TZNAME:CEST
DTSTART:20200329T010000
END:DAYLIGHT
BEGIN:STANDARD
TZOFFSETFROM:+0200
TZOFFSETTO:+0100
TZNAME:CET
DTSTART:20201025T010000
END:STANDARD
END:VTIMEZONE
BEGIN:VEVENT
DTSTART;VALUE=DATE:20191028
DTEND;VALUE=DATE:20191102
DTSTAMP:20260425T161014
CREATED:20190918T155844Z
LAST-MODIFIED:20190918T155844Z
UID:1370-1572220800-1572652799@gsstjohannis.de
SUMMARY:Herbstferien
DESCRIPTION:
URL:https://gsstjohannis.de/event/herbstferien/
END:VEVENT
BEGIN:VEVENT
DTSTART;VALUE=DATE:20191104
DTEND;VALUE=DATE:20191105
DTSTAMP:20260425T161014
CREATED:20190918T160518Z
LAST-MODIFIED:20190918T162033Z
UID:1372-1572825600-1572911999@gsstjohannis.de
SUMMARY:Elternabend "Sicher im Netz" für 3. und 4. Klassen 18:00 Uhr
DESCRIPTION:Alle Schülerinnen und Schüler der 4. Jahrgangsstufe werden von der Polizei über Gefahren des Internets informiert und für einen verantwortungsbewussten Umgang mit dem "Netz" sensiblisiert. Am Elternabend haben Sie die Möglichkeit\, sich ebenfalls darüber zu informieren\, Ihr Kind dabei zu unterstützen und einen kleinen Einblick in die doppelstündige Unterrichtseinheit zu erhalten. \nAchtung: Der Elternabend findet lediglich alle zwei Jahre statt\, sodass die Einladung an alle Eltern der 3. und 4. Klasse geht!
URL:https://gsstjohannis.de/event/elternabend-sicher-im-netz-fuer-3-und-4-klassen-1800-uhr/
END:VEVENT
BEGIN:VEVENT
DTSTART;VALUE=DATE:20191105
DTEND;VALUE=DATE:20191106
DTSTAMP:20260425T161014
CREATED:20190918T160720Z
LAST-MODIFIED:20190918T160720Z
UID:1374-1572912000-1572998399@gsstjohannis.de
SUMMARY:Unterricht "Sicher im Netz" für 4. Klassen 8:00-11:15 Uhr
DESCRIPTION:
URL:https://gsstjohannis.de/event/unterricht-sicher-im-netz-fuer-4-klassen-800-1115-uhr/
END:VEVENT
BEGIN:VEVENT
DTSTART;VALUE=DATE:20191107
DTEND;VALUE=DATE:20191108
DTSTAMP:20260425T161014
CREATED:20190918T160815Z
LAST-MODIFIED:20190918T161017Z
UID:1376-1573084800-1573171199@gsstjohannis.de
SUMMARY:Unterricht „Sicher im Netz“ für 4. Klassen 8:00-11:15 Uhr
DESCRIPTION:
URL:https://gsstjohannis.de/event/unterricht-sicher-im-netz-fuer-4-klassen-800-1115-uhr-2/
END:VEVENT
BEGIN:VEVENT
DTSTART;VALUE=DATE:20191111
DTEND;VALUE=DATE:20191112
DTSTAMP:20260425T161014
CREATED:20190918T160853Z
LAST-MODIFIED:20190918T160853Z
UID:1378-1573430400-1573516799@gsstjohannis.de
SUMMARY:Laternenumzug St. Johannis für Erstklässler
DESCRIPTION:
URL:https://gsstjohannis.de/event/laternenumzug-st-johannis-fuer-erstklaessler/
END:VEVENT
BEGIN:VEVENT
DTSTART;VALUE=DATE:20191112
DTEND;VALUE=DATE:20191113
DTSTAMP:20260425T161014
CREATED:20190918T160952Z
LAST-MODIFIED:20190918T160952Z
UID:1380-1573516800-1573603199@gsstjohannis.de
SUMMARY:Unterricht „Sicher im Netz“ für 4. Klassen 9:45-11:15 Uhr
DESCRIPTION:
URL:https://gsstjohannis.de/event/unterricht-sicher-im-netz-fuer-4-klassen-945-1115-uhr/
END:VEVENT
BEGIN:VEVENT
DTSTART;VALUE=DATE:20191112
DTEND;VALUE=DATE:20191113
DTSTAMP:20260425T161014
CREATED:20191020T082858Z
LAST-MODIFIED:20191020T082858Z
UID:1509-1573516800-1573603199@gsstjohannis.de
SUMMARY:Bücherbus
DESCRIPTION:
URL:https://gsstjohannis.de/event/buecherbus/
END:VEVENT
BEGIN:VEVENT
DTSTART;VALUE=DATE:20191120
DTEND;VALUE=DATE:20191121
DTSTAMP:20260425T161014
CREATED:20190918T161130Z
LAST-MODIFIED:20190918T161130Z
UID:1383-1574208000-1574294399@gsstjohannis.de
SUMMARY:Buß- und Bettag (unterrichtsfrei)
DESCRIPTION:
URL:https://gsstjohannis.de/event/buss-und-bettag-unterrichtsfrei/
END:VEVENT
BEGIN:VEVENT
DTSTART;VALUE=DATE:20191126
DTEND;VALUE=DATE:20191127
DTSTAMP:20260425T161014
CREATED:20191020T082924Z
LAST-MODIFIED:20191020T082924Z
UID:1511-1574726400-1574812799@gsstjohannis.de
SUMMARY:Bücherbus
DESCRIPTION:
URL:https://gsstjohannis.de/event/buecherbus-2/
END:VEVENT
BEGIN:VEVENT
DTSTART;VALUE=DATE:20191128
DTEND;VALUE=DATE:20191129
DTSTAMP:20260425T161014
CREATED:20190918T161223Z
LAST-MODIFIED:20190918T161223Z
UID:1385-1574899200-1574985599@gsstjohannis.de
SUMMARY:1. Elternsprechabend 18:00-20:00 Uhr
DESCRIPTION:
URL:https://gsstjohannis.de/event/1-elternsprechabend-1800-2000-uhr/
END:VEVENT
END:VCALENDAR