BEGIN:VCALENDAR
VERSION:2.0
PRODID:-// - ECPv6.15.20//NONSGML v1.0//EN
CALSCALE:GREGORIAN
METHOD:PUBLISH
X-ORIGINAL-URL:https://gsstjohannis.de
X-WR-CALDESC:Veranstaltungen für 
REFRESH-INTERVAL;VALUE=DURATION:PT1H
X-Robots-Tag:noindex
X-PUBLISHED-TTL:PT1H
BEGIN:VTIMEZONE
TZID:Europe/Berlin
BEGIN:DAYLIGHT
TZOFFSETFROM:+0100
TZOFFSETTO:+0200
TZNAME:CEST
DTSTART:20200329T010000
END:DAYLIGHT
BEGIN:STANDARD
TZOFFSETFROM:+0200
TZOFFSETTO:+0100
TZNAME:CET
DTSTART:20201025T010000
END:STANDARD
BEGIN:DAYLIGHT
TZOFFSETFROM:+0100
TZOFFSETTO:+0200
TZNAME:CEST
DTSTART:20210328T010000
END:DAYLIGHT
BEGIN:STANDARD
TZOFFSETFROM:+0200
TZOFFSETTO:+0100
TZNAME:CET
DTSTART:20211031T010000
END:STANDARD
BEGIN:DAYLIGHT
TZOFFSETFROM:+0100
TZOFFSETTO:+0200
TZNAME:CEST
DTSTART:20220327T010000
END:DAYLIGHT
BEGIN:STANDARD
TZOFFSETFROM:+0200
TZOFFSETTO:+0100
TZNAME:CET
DTSTART:20221030T010000
END:STANDARD
END:VTIMEZONE
BEGIN:VEVENT
DTSTART;VALUE=DATE:20210412
DTEND;VALUE=DATE:20210513
DTSTAMP:20260423T000431
CREATED:20201011T061624Z
LAST-MODIFIED:20201011T061624Z
UID:3200-1618185600-1620863999@gsstjohannis.de
SUMMARY:Ramadan
DESCRIPTION:
URL:https://gsstjohannis.de/event/ramadan/
END:VEVENT
BEGIN:VEVENT
DTSTART;VALUE=DATE:20210501
DTEND;VALUE=DATE:20210502
DTSTAMP:20260423T000431
CREATED:20201011T062125Z
LAST-MODIFIED:20201011T062125Z
UID:3214-1619827200-1619913599@gsstjohannis.de
SUMMARY:Orthodoxer Karsamstag
DESCRIPTION:
URL:https://gsstjohannis.de/event/orthodoxer-karsamstag/
END:VEVENT
BEGIN:VEVENT
DTSTART;VALUE=DATE:20210501
DTEND;VALUE=DATE:20210502
DTSTAMP:20260423T000431
CREATED:20201011T062531Z
LAST-MODIFIED:20201011T062531Z
UID:3225-1619827200-1619913599@gsstjohannis.de
SUMMARY:Tag der Arbeit (Feiertag)
DESCRIPTION:
URL:https://gsstjohannis.de/event/tag-der-arbeit-feiertag/
END:VEVENT
END:VCALENDAR