BEGIN:VCALENDAR
VERSION:2.0
PRODID:-// - ECPv6.15.20//NONSGML v1.0//EN
CALSCALE:GREGORIAN
METHOD:PUBLISH
X-ORIGINAL-URL:https://gsstjohannis.de
X-WR-CALDESC:Veranstaltungen für 
REFRESH-INTERVAL;VALUE=DURATION:PT1H
X-Robots-Tag:noindex
X-PUBLISHED-TTL:PT1H
BEGIN:VTIMEZONE
TZID:Europe/Berlin
BEGIN:DAYLIGHT
TZOFFSETFROM:+0100
TZOFFSETTO:+0200
TZNAME:CEST
DTSTART:20180325T010000
END:DAYLIGHT
BEGIN:STANDARD
TZOFFSETFROM:+0200
TZOFFSETTO:+0100
TZNAME:CET
DTSTART:20181028T010000
END:STANDARD
BEGIN:DAYLIGHT
TZOFFSETFROM:+0100
TZOFFSETTO:+0200
TZNAME:CEST
DTSTART:20190331T010000
END:DAYLIGHT
BEGIN:STANDARD
TZOFFSETFROM:+0200
TZOFFSETTO:+0100
TZNAME:CET
DTSTART:20191027T010000
END:STANDARD
BEGIN:DAYLIGHT
TZOFFSETFROM:+0100
TZOFFSETTO:+0200
TZNAME:CEST
DTSTART:20200329T010000
END:DAYLIGHT
BEGIN:STANDARD
TZOFFSETFROM:+0200
TZOFFSETTO:+0100
TZNAME:CET
DTSTART:20201025T010000
END:STANDARD
END:VTIMEZONE
BEGIN:VEVENT
DTSTART;VALUE=DATE:20190909
DTEND;VALUE=DATE:20190914
DTSTAMP:20260425T211853
CREATED:20190917T195159Z
LAST-MODIFIED:20190917T195405Z
UID:1332-1567987200-1568419199@gsstjohannis.de
SUMMARY:probenfreie Woche 4. Klasse
DESCRIPTION:
URL:https://gsstjohannis.de/event/probenfreie-woche-4-klasse/
END:VEVENT
BEGIN:VEVENT
DTSTART;VALUE=DATE:20190910
DTEND;VALUE=DATE:20190911
DTSTAMP:20260425T211853
CREATED:20190918T155556Z
LAST-MODIFIED:20190918T155631Z
UID:1367-1568073600-1568159999@gsstjohannis.de
SUMMARY:Schulbeginn
DESCRIPTION:Der Unterricht startet für die 2.-4. Klassen um 8:00 Uhr. Für die neuen 1. Klasse geht es erst um 9:00 Uhr los! Einen schönen 1. Schultag an alle Schülerinnen und Schüler!
URL:https://gsstjohannis.de/event/schulbeginn/
END:VEVENT
BEGIN:VEVENT
DTSTART;VALUE=DATE:20190910
DTEND;VALUE=DATE:20190911
DTSTAMP:20260425T211853
CREATED:20190917T195536Z
LAST-MODIFIED:20190917T203909Z
UID:1334-1568073600-1568159999@gsstjohannis.de
SUMMARY:Schulanfangsgottesdienst 1. Klasse 11:00 Uhr
DESCRIPTION:
URL:https://gsstjohannis.de/event/schulanfangsgottesdienst-1-klasse/
END:VEVENT
END:VCALENDAR